BEGIN:VCALENDAR
VERSION:2.0
PRODID:-//StemCells - ECPv6.5.0//NONSGML v1.0//EN
CALSCALE:GREGORIAN
METHOD:PUBLISH
X-WR-CALNAME:StemCells
X-ORIGINAL-URL:https://stemcells.com.ar
X-WR-CALDESC:Eventos para StemCells
REFRESH-INTERVAL;VALUE=DURATION:PT1H
X-Robots-Tag:noindex
X-PUBLISHED-TTL:PT1H
BEGIN:VTIMEZONE
TZID:UTC
BEGIN:STANDARD
TZOFFSETFROM:+0000
TZOFFSETTO:+0000
TZNAME:UTC
DTSTART:20180101T000000
END:STANDARD
END:VTIMEZONE
BEGIN:VEVENT
DTSTART;TZID=UTC:20180802T200000
DTEND;TZID=UTC:20180803T010000
DTSTAMP:20260426T005608
CREATED:20160425T074325Z
LAST-MODIFIED:20170805T041349Z
UID:7539-1533240000-1533258000@stemcells.com.ar
SUMMARY:Late Night Party
DESCRIPTION:Well\, I got better. Ah\, now we see the violence inherent in the system! The swallow may fly south with the sun\, and the house martin or the plover may seek warmer climes in winter\, yet these are not strangers to our land. It’s only a model. It’s only a model.
URL:https://stemcells.com.ar/event/late-night-party/
LOCATION:Party Haus\, 330 S Broadway Unit 602\, Los Angelos\, CA\, 90013\, united States
CATEGORIES:Nightlife,Party
ATTACH;FMTTYPE=image/jpeg:https://stemcells.com.ar/wp-content/uploads/2016/04/event-4.jpg
ORGANIZER;CN="Famous Amos":MAILTO:cookies@aol.com
END:VEVENT
END:VCALENDAR